BEGIN:VCALENDAR
VERSION:2.0
PRODID:-//Kolpingsfamilie Ettlingen - ECPv6.15.20//NONSGML v1.0//EN
CALSCALE:GREGORIAN
METHOD:PUBLISH
X-ORIGINAL-URL:http://kolping-ettlingen.de
X-WR-CALDESC:Veranstaltungen für Kolpingsfamilie Ettlingen
REFRESH-INTERVAL;VALUE=DURATION:PT1H
X-Robots-Tag:noindex
X-PUBLISHED-TTL:PT1H
BEGIN:VTIMEZONE
TZID:Europe/Berlin
BEGIN:DAYLIGHT
TZOFFSETFROM:+0100
TZOFFSETTO:+0200
TZNAME:CEST
DTSTART:20240331T010000
END:DAYLIGHT
BEGIN:STANDARD
TZOFFSETFROM:+0200
TZOFFSETTO:+0100
TZNAME:CET
DTSTART:20241027T010000
END:STANDARD
BEGIN:DAYLIGHT
TZOFFSETFROM:+0100
TZOFFSETTO:+0200
TZNAME:CEST
DTSTART:20250330T010000
END:DAYLIGHT
BEGIN:STANDARD
TZOFFSETFROM:+0200
TZOFFSETTO:+0100
TZNAME:CET
DTSTART:20251026T010000
END:STANDARD
BEGIN:DAYLIGHT
TZOFFSETFROM:+0100
TZOFFSETTO:+0200
TZNAME:CEST
DTSTART:20260329T010000
END:DAYLIGHT
BEGIN:STANDARD
TZOFFSETFROM:+0200
TZOFFSETTO:+0100
TZNAME:CET
DTSTART:20261025T010000
END:STANDARD
END:VTIMEZONE
BEGIN:VEVENT
DTSTART;VALUE=DATE:20250501
DTEND;VALUE=DATE:20250505
DTSTAMP:20260421T132323
CREATED:20240219T140328Z
LAST-MODIFIED:20240219T140328Z
UID:3051-1746057600-1746403199@kolping-ettlingen.de
SUMMARY:Kolpingtag 2025 in Köln
DESCRIPTION:Vom 01. bis 04. Mai 2025 findet in Köln ein Kolpingtag statt. Die Kolpingsfamilie Ettlingen wird am Kolpingtag teilnehmen.
URL:http://kolping-ettlingen.de/termin/kolpingtag-2025-in-koeln/
END:VEVENT
END:VCALENDAR