BEGIN:VCALENDAR
VERSION:2.0
PRODID:-//Kolpingsfamilie Ettlingen - ECPv6.15.20//NONSGML v1.0//EN
CALSCALE:GREGORIAN
METHOD:PUBLISH
X-ORIGINAL-URL:http://kolping-ettlingen.de
X-WR-CALDESC:Veranstaltungen für Kolpingsfamilie Ettlingen
REFRESH-INTERVAL;VALUE=DURATION:PT1H
X-Robots-Tag:noindex
X-PUBLISHED-TTL:PT1H
BEGIN:VTIMEZONE
TZID:Europe/Berlin
BEGIN:DAYLIGHT
TZOFFSETFROM:+0100
TZOFFSETTO:+0200
TZNAME:CEST
DTSTART:20240331T010000
END:DAYLIGHT
BEGIN:STANDARD
TZOFFSETFROM:+0200
TZOFFSETTO:+0100
TZNAME:CET
DTSTART:20241027T010000
END:STANDARD
BEGIN:DAYLIGHT
TZOFFSETFROM:+0100
TZOFFSETTO:+0200
TZNAME:CEST
DTSTART:20250330T010000
END:DAYLIGHT
BEGIN:STANDARD
TZOFFSETFROM:+0200
TZOFFSETTO:+0100
TZNAME:CET
DTSTART:20251026T010000
END:STANDARD
BEGIN:DAYLIGHT
TZOFFSETFROM:+0100
TZOFFSETTO:+0200
TZNAME:CEST
DTSTART:20260329T010000
END:DAYLIGHT
BEGIN:STANDARD
TZOFFSETFROM:+0200
TZOFFSETTO:+0100
TZNAME:CET
DTSTART:20261025T010000
END:STANDARD
END:VTIMEZONE
BEGIN:VEVENT
DTSTART;VALUE=DATE:20250912
DTEND;VALUE=DATE:20250916
DTSTAMP:20260423T183003
CREATED:20241202T152744Z
LAST-MODIFIED:20241202T153059Z
UID:3574-1757635200-1757980799@kolping-ettlingen.de
SUMMARY:Willkommen\, liebe Gäste aus Middelkerke!
DESCRIPTION:Willkommen\, liebe Gäste aus Middelkerke! \nVom 12. bis 15. September dürfen wir unseren Freunden aus Middelkerke einen herzlichen Empfang bereiten. Die Vorfreude auf diesen Besuch ist groß\, denn es erwartet uns eine spannende Zeit voller Austausch\, gemeinsamen Aktivitäten und neu geschlossener Freundschaften. \nWir freuen uns darauf\, unsere Gäste nicht nur mit der Schönheit unserer Region\, sondern auch mit unserer Gastfreundschaft zu begeistern. \nDieser Besuch ist mehr als ein Treffen – er ist Ausdruck einer lebendigen Partnerschaft\, die wir weiter pflegen und ausbauen möchten. Gemeinsam werden wir unvergessliche Momente erleben und die Verbindung zwischen unseren Vereinen weiter stärken. \nIn diesem Sinne: Herzlich willkommen und auf eine tolle gemeinsame Zeit!
URL:http://kolping-ettlingen.de/termin/besuch-unserer-freunde-aus-middelkerke-2/
END:VEVENT
BEGIN:VEVENT
DTSTART;TZID=Europe/Berlin:20250921T143000
DTEND;TZID=Europe/Berlin:20250921T200000
DTSTAMP:20260423T183003
CREATED:20250812T073336Z
LAST-MODIFIED:20250812T073336Z
UID:5206-1758465000-1758484800@kolping-ettlingen.de
SUMMARY:Spielenachmittag im Kolpingsaal
DESCRIPTION:
URL:http://kolping-ettlingen.de/termin/spielenachmittag-im-kolpingsaal-5/
LOCATION:Kolpingsaal\, Pforzheimer Straße 23\, Ettlingen\, 76275\, Deutschland
ORGANIZER;CN="Rainer Ruml":MAILTO:RainerRuml@gmx.de
END:VEVENT
END:VCALENDAR