BEGIN:VCALENDAR
VERSION:2.0
PRODID:-//Kolpingsfamilie Ettlingen - ECPv6.15.20//NONSGML v1.0//EN
CALSCALE:GREGORIAN
METHOD:PUBLISH
X-WR-CALNAME:Kolpingsfamilie Ettlingen
X-ORIGINAL-URL:http://kolping-ettlingen.de
X-WR-CALDESC:Veranstaltungen für Kolpingsfamilie Ettlingen
REFRESH-INTERVAL;VALUE=DURATION:PT1H
X-Robots-Tag:noindex
X-PUBLISHED-TTL:PT1H
BEGIN:VTIMEZONE
TZID:Europe/Berlin
BEGIN:DAYLIGHT
TZOFFSETFROM:+0100
TZOFFSETTO:+0200
TZNAME:CEST
DTSTART:20240331T010000
END:DAYLIGHT
BEGIN:STANDARD
TZOFFSETFROM:+0200
TZOFFSETTO:+0100
TZNAME:CET
DTSTART:20241027T010000
END:STANDARD
BEGIN:DAYLIGHT
TZOFFSETFROM:+0100
TZOFFSETTO:+0200
TZNAME:CEST
DTSTART:20250330T010000
END:DAYLIGHT
BEGIN:STANDARD
TZOFFSETFROM:+0200
TZOFFSETTO:+0100
TZNAME:CET
DTSTART:20251026T010000
END:STANDARD
BEGIN:DAYLIGHT
TZOFFSETFROM:+0100
TZOFFSETTO:+0200
TZNAME:CEST
DTSTART:20260329T010000
END:DAYLIGHT
BEGIN:STANDARD
TZOFFSETFROM:+0200
TZOFFSETTO:+0100
TZNAME:CET
DTSTART:20261025T010000
END:STANDARD
END:VTIMEZONE
BEGIN:VEVENT
DTSTART;TZID=Europe/Berlin:20251207T103000
DTEND;TZID=Europe/Berlin:20251207T150000
DTSTAMP:20260423T222155
CREATED:20251102T084840Z
LAST-MODIFIED:20251102T084840Z
UID:5288-1765103400-1765119600@kolping-ettlingen.de
SUMMARY:Kolpinggedenktag
DESCRIPTION:10:30 Uhr Gottesdienst in Herz-Jesu \nDanach Mitgliederehrung im Kolpingsaal \nDer Abschluss ist ein gemeinsames Mittagessen
URL:http://kolping-ettlingen.de/termin/kolpinggedenktag-2/
LOCATION:Kolpingsaal\, Pforzheimer Straße 23\, Ettlingen\, 76275\, Deutschland
END:VEVENT
END:VCALENDAR